BEGIN:VCALENDAR
VERSION:2.0
PRODID:-//ChamberMaster//Event Calendar 2.0//EN
METHOD:PUBLISH
X-PUBLISHED-TTL:P3D
REFRESH-INTERVAL:P3D
CALSCALE:GREGORIAN
BEGIN:VEVENT
DTSTART:20120124T050000Z
DTEND:20120124T050000Z
X-MICROSOFT-CDO-ALLDAYEVENT:FALSE
SUMMARY:WDO Chamber Annual Meeting 2012 - Guest List
DESCRIPTION:WDO Chamber Annual Meeting 2012 - Guest List
X-ALT-DESC;FMTTYPE=text/html:WDO Chamber Annual Meeting 2012 - Guest List
LOCATION:Colonial Restaurant
UID:e.2083.2084
SEQUENCE:3
DTSTAMP:20260421T051506Z
URL:https://business.worcesterchamber.org/events/details/wdo-chamber-annual-meeting-2012-guest-list-01-24-2012-2084
END:VEVENT

END:VCALENDAR
