BEGIN:VCALENDAR
VERSION:2.0
PRODID:-//ChamberMaster//Event Calendar 2.0//EN
METHOD:PUBLISH
X-PUBLISHED-TTL:P3D
REFRESH-INTERVAL:P3D
CALSCALE:GREGORIAN
BEGIN:VEVENT
DTSTART:20130108T050000Z
DTEND:20130108T050000Z
X-MICROSOFT-CDO-ALLDAYEVENT:FALSE
SUMMARY:WDO Chamber Annual Meeting 2013
DESCRIPTION:WDO Chamber Annual Meeting 2013
X-ALT-DESC;FMTTYPE=text/html:WDO Chamber Annual Meeting 2013
LOCATION:Colonial Restaurant
UID:e.2083.2207
SEQUENCE:3
DTSTAMP:20260420T113335Z
URL:https://business.worcesterchamber.org/events/details/wdo-chamber-annual-meeting-2013-01-08-2013-2207
END:VEVENT

END:VCALENDAR
