BEGIN:VCALENDAR
VERSION:2.0
PRODID:-//ChamberMaster//Event Calendar 2.0//EN
METHOD:PUBLISH
X-PUBLISHED-TTL:P3D
REFRESH-INTERVAL:P3D
CALSCALE:GREGORIAN
BEGIN:VEVENT
DTSTART:20110215T050000Z
DTEND:20110215T050000Z
X-MICROSOFT-CDO-ALLDAYEVENT:FALSE
SUMMARY:WDO Chamber BAH - February 15\, 2011
DESCRIPTION:WDO Chamber BAH - February 15\, 2011
X-ALT-DESC;FMTTYPE=text/html:WDO Chamber BAH - February 15\, 2011
LOCATION:
UID:e.2083.1966
SEQUENCE:3
DTSTAMP:20260421T221026Z
URL:https://business.worcesterchamber.org/events/details/wdo-chamber-bah-february-15-2011-02-15-2011-1966
END:VEVENT

END:VCALENDAR
