BEGIN:VCALENDAR
VERSION:2.0
PRODID:-//ChamberMaster//Event Calendar 2.0//EN
METHOD:PUBLISH
X-PUBLISHED-TTL:P3D
REFRESH-INTERVAL:P3D
CALSCALE:GREGORIAN
BEGIN:VEVENT
DTSTART:20130312T040000Z
DTEND:20130312T040000Z
X-MICROSOFT-CDO-ALLDAYEVENT:FALSE
SUMMARY:WDO Chamber BAH - March 12\, 2013
DESCRIPTION:WDO Chamber BAH - March 12\, 2013
X-ALT-DESC;FMTTYPE=text/html:WDO Chamber BAH - March 12\, 2013
LOCATION:
UID:e.2083.2228
SEQUENCE:3
DTSTAMP:20260420T083320Z
URL:https://business.worcesterchamber.org/events/details/wdo-chamber-bah-march-12-2013-03-12-2013-2228
END:VEVENT

END:VCALENDAR
