BEGIN:VCALENDAR
VERSION:2.0
PRODID:-//ChamberMaster//Event Calendar 2.0//EN
METHOD:PUBLISH
X-PUBLISHED-TTL:P3D
REFRESH-INTERVAL:P3D
CALSCALE:GREGORIAN
BEGIN:VEVENT
DTSTART:20120313T040000Z
DTEND:20120313T040000Z
X-MICROSOFT-CDO-ALLDAYEVENT:FALSE
SUMMARY:WDO Chamber BAH - March 13\, 2012
DESCRIPTION:WDO Chamber BAH - March 13\, 2012
X-ALT-DESC;FMTTYPE=text/html:WDO Chamber BAH - March 13\, 2012
LOCATION:
UID:e.2083.2101
SEQUENCE:3
DTSTAMP:20260421T015353Z
URL:https://business.worcesterchamber.org/events/details/wdo-chamber-bah-march-13-2012-03-13-2012-2101
END:VEVENT

END:VCALENDAR
