BEGIN:VCALENDAR
VERSION:2.0
PRODID:-//ChamberMaster//Event Calendar 2.0//EN
METHOD:PUBLISH
X-PUBLISHED-TTL:P3D
REFRESH-INTERVAL:P3D
CALSCALE:GREGORIAN
BEGIN:VEVENT
DTSTART:20110308T050000Z
DTEND:20110308T050000Z
X-MICROSOFT-CDO-ALLDAYEVENT:FALSE
SUMMARY:WDO Chamber BAH - March 8\, 2011
DESCRIPTION:WDO Chamber BAH - March 8\, 2011
X-ALT-DESC;FMTTYPE=text/html:WDO Chamber BAH - March 8\, 2011
LOCATION:
UID:e.2083.1971
SEQUENCE:3
DTSTAMP:20260421T220909Z
URL:https://business.worcesterchamber.org/events/details/wdo-chamber-bah-march-8-2011-03-08-2011-1971
END:VEVENT

END:VCALENDAR
