BEGIN:VCALENDAR
VERSION:2.0
PRODID:-//ChamberMaster//Event Calendar 2.0//EN
METHOD:PUBLISH
X-PUBLISHED-TTL:P3D
REFRESH-INTERVAL:P3D
CALSCALE:GREGORIAN
BEGIN:VEVENT
DTSTART:20111018T040000Z
DTEND:20111018T040000Z
X-MICROSOFT-CDO-ALLDAYEVENT:FALSE
SUMMARY:WDO Chamber Business After Hours 10/18/10
DESCRIPTION:WDO Chamber Business After Hours 10/18/10
X-ALT-DESC;FMTTYPE=text/html:WDO Chamber Business After Hours 10/18/10
LOCATION:
UID:e.2083.2061
SEQUENCE:3
DTSTAMP:20260421T113653Z
URL:https://business.worcesterchamber.org/events/details/wdo-chamber-business-after-hours-10-18-10-10-18-2011-2061
END:VEVENT

END:VCALENDAR
