BEGIN:VCALENDAR
VERSION:2.0
PRODID:-//ChamberMaster//Event Calendar 2.0//EN
METHOD:PUBLISH
X-PUBLISHED-TTL:P3D
REFRESH-INTERVAL:P3D
CALSCALE:GREGORIAN
BEGIN:VEVENT
DTSTART:20120425T040000Z
DTEND:20120425T040000Z
X-MICROSOFT-CDO-ALLDAYEVENT:FALSE
SUMMARY:WDO Chamber Business After Hours 4/25/12
DESCRIPTION:WDO Chamber Business After Hours 4/25/12
X-ALT-DESC;FMTTYPE=text/html:WDO Chamber Business After Hours 4/25/12
LOCATION:
UID:e.2083.2102
SEQUENCE:3
DTSTAMP:20260421T002511Z
URL:https://business.worcesterchamber.org/events/details/wdo-chamber-business-after-hours-4-25-12-04-25-2012-2102
END:VEVENT

END:VCALENDAR
