BEGIN:VCALENDAR
VERSION:2.0
PRODID:-//ChamberMaster//Event Calendar 2.0//EN
METHOD:PUBLISH
X-PUBLISHED-TTL:P3D
REFRESH-INTERVAL:P3D
CALSCALE:GREGORIAN
BEGIN:VEVENT
DTSTART:20100608T040000Z
DTEND:20100608T040000Z
X-MICROSOFT-CDO-ALLDAYEVENT:FALSE
SUMMARY:WDO Chamber Business After Hours 6/8/10
DESCRIPTION:WDO Chamber Business After Hours 6/8/10
X-ALT-DESC;FMTTYPE=text/html:WDO Chamber Business After Hours 6/8/10
LOCATION:
UID:e.2083.1881
SEQUENCE:3
DTSTAMP:20260422T114653Z
URL:https://business.worcesterchamber.org/events/details/wdo-chamber-business-after-hours-6-8-10-06-08-2010-1881
END:VEVENT

END:VCALENDAR
