BEGIN:VCALENDAR
VERSION:2.0
PRODID:-//ChamberMaster//Event Calendar 2.0//EN
METHOD:PUBLISH
X-PUBLISHED-TTL:P3D
REFRESH-INTERVAL:P3D
CALSCALE:GREGORIAN
BEGIN:VEVENT
DTSTART:20090626T040000Z
DTEND:20090626T040000Z
X-MICROSOFT-CDO-ALLDAYEVENT:FALSE
SUMMARY:WDO Chamber Golf/BAH - June '09
DESCRIPTION:WDO Chamber Golf/BAH - June '09
X-ALT-DESC;FMTTYPE=text/html:WDO Chamber Golf/BAH - June '09
LOCATION:
UID:e.2083.1730
SEQUENCE:3
DTSTAMP:20260423T063353Z
URL:https://business.worcesterchamber.org/events/details/wdo-chamber-golf-bah-june-09-06-26-2009-1730
END:VEVENT

END:VCALENDAR
