BEGIN:VCALENDAR
VERSION:2.0
PRODID:-//ChamberMaster//Event Calendar 2.0//EN
METHOD:PUBLISH
X-PUBLISHED-TTL:P3D
REFRESH-INTERVAL:P3D
CALSCALE:GREGORIAN
BEGIN:VEVENT
DTSTART:20100922T040000Z
DTEND:20100922T040000Z
X-MICROSOFT-CDO-ALLDAYEVENT:FALSE
SUMMARY:WDO Chamber Golf Tournament Sponsorships 2010
DESCRIPTION:WDO Chamber Golf Tournament Sponsorships 2010
X-ALT-DESC;FMTTYPE=text/html:WDO Chamber Golf Tournament Sponsorships 2010
LOCATION:
UID:e.2083.1904
SEQUENCE:3
DTSTAMP:20260422T055015Z
URL:https://business.worcesterchamber.org/events/details/wdo-chamber-golf-tournament-sponsorships-2010-09-22-2010-1904
END:VEVENT

END:VCALENDAR
