BEGIN:VCALENDAR
VERSION:2.0
PRODID:-//ChamberMaster//Event Calendar 2.0//EN
METHOD:PUBLISH
X-PUBLISHED-TTL:P3D
REFRESH-INTERVAL:P3D
CALSCALE:GREGORIAN
BEGIN:VEVENT
DTSTART:20091001T040000Z
DTEND:20101001T040000Z
X-MICROSOFT-CDO-ALLDAYEVENT:FALSE
SUMMARY:WDO Chamber Referral Group - 2009/2010
DESCRIPTION:WDO Chamber Referral Group - 2009/2010
X-ALT-DESC;FMTTYPE=text/html:WDO Chamber Referral Group - 2009/2010
LOCATION:
UID:e.2083.1814
SEQUENCE:3
DTSTAMP:20260422T041640Z
URL:https://business.worcesterchamber.org/events/details/wdo-chamber-referral-group-2009-2010-10-01-2009-1814
END:VEVENT

END:VCALENDAR
