BEGIN:VCALENDAR
VERSION:2.0
PRODID:-//ChamberMaster//Event Calendar 2.0//EN
METHOD:PUBLISH
X-PUBLISHED-TTL:P3D
REFRESH-INTERVAL:P3D
CALSCALE:GREGORIAN
BEGIN:VEVENT
DTSTART:20101221T050000Z
DTEND:20110101T050000Z
X-MICROSOFT-CDO-ALLDAYEVENT:FALSE
SUMMARY:WDO Chamber Referral Group-2011
DESCRIPTION:WDO Chamber Referral Group-2011
X-ALT-DESC;FMTTYPE=text/html:WDO Chamber Referral Group-2011
LOCATION:
UID:e.2083.1955
SEQUENCE:3
DTSTAMP:20260422T011929Z
URL:https://business.worcesterchamber.org/events/details/wdo-chamber-referral-group-2011-12-21-2010-1955
END:VEVENT

END:VCALENDAR
