BEGIN:VCALENDAR
VERSION:2.0
PRODID:-//ChamberMaster//Event Calendar 2.0//EN
METHOD:PUBLISH
X-PUBLISHED-TTL:P3D
REFRESH-INTERVAL:P3D
CALSCALE:GREGORIAN
BEGIN:VEVENT
DTSTART:20110208T050000Z
DTEND:20110208T050000Z
X-MICROSOFT-CDO-ALLDAYEVENT:FALSE
SUMMARY:WDO Chamber Seminar - Feb. 08\, 2011
DESCRIPTION:WDO Chamber Seminar - Feb. 08\, 2011
X-ALT-DESC;FMTTYPE=text/html:WDO Chamber Seminar - Feb. 08\, 2011
LOCATION:
UID:e.2083.1963
SEQUENCE:3
DTSTAMP:20260421T234111Z
URL:https://business.worcesterchamber.org/events/details/wdo-chamber-seminar-feb-08-2011-02-08-2011-1963
END:VEVENT

END:VCALENDAR
