BEGIN:VCALENDAR
VERSION:2.0
PRODID:-//ChamberMaster//Event Calendar 2.0//EN
METHOD:PUBLISH
X-PUBLISHED-TTL:P3D
REFRESH-INTERVAL:P3D
CALSCALE:GREGORIAN
BEGIN:VEVENT
DTSTART:20100722T040000Z
DTEND:20100722T040000Z
X-MICROSOFT-CDO-ALLDAYEVENT:FALSE
SUMMARY:WDO Chamber Sign Bylaw Meeting 7 22 10
DESCRIPTION:WDO Chamber Sign Bylaw Meeting 7 22 10
X-ALT-DESC;FMTTYPE=text/html:WDO Chamber Sign Bylaw Meeting 7 22 10
LOCATION:
UID:e.2083.1896
SEQUENCE:3
DTSTAMP:20260422T091646Z
URL:https://business.worcesterchamber.org/events/details/wdo-chamber-sign-bylaw-meeting-7-22-10-07-22-2010-1896
END:VEVENT

END:VCALENDAR
