BEGIN:VCALENDAR
VERSION:2.0
PRODID:-//ChamberMaster//Event Calendar 2.0//EN
METHOD:PUBLISH
X-PUBLISHED-TTL:P3D
REFRESH-INTERVAL:P3D
CALSCALE:GREGORIAN
BEGIN:VEVENT
DTSTART:20130122T050000Z
DTEND:20130122T050000Z
X-MICROSOFT-CDO-ALLDAYEVENT:FALSE
SUMMARY:WDO Chamber Women's Luncheon 1/22/13
DESCRIPTION:WDO Chamber Women's Luncheon 1/22/13
X-ALT-DESC;FMTTYPE=text/html:WDO Chamber Women's Luncheon 1/22/13
LOCATION:
UID:e.2083.2215
SEQUENCE:3
DTSTAMP:20260420T113530Z
URL:https://business.worcesterchamber.org/events/details/wdo-chamber-women-s-luncheon-1-22-13-01-22-2013-2215
END:VEVENT

END:VCALENDAR
