BEGIN:VCALENDAR
VERSION:2.0
PRODID:-//ChamberMaster//Event Calendar 2.0//EN
METHOD:PUBLISH
X-PUBLISHED-TTL:P3D
REFRESH-INTERVAL:P3D
CALSCALE:GREGORIAN
BEGIN:VEVENT
DTSTART:20120522T040000Z
DTEND:20120522T040000Z
X-MICROSOFT-CDO-ALLDAYEVENT:FALSE
SUMMARY:WDO Chamber Women's Luncheon 5/22/12
DESCRIPTION:WDO Chamber Women's Luncheon 5/22/12
X-ALT-DESC;FMTTYPE=text/html:WDO Chamber Women's Luncheon 5/22/12
LOCATION:
UID:e.2083.2133
SEQUENCE:3
DTSTAMP:20260420T230550Z
URL:https://business.worcesterchamber.org/events/details/wdo-chamber-women-s-luncheon-5-22-12-05-22-2012-2133
END:VEVENT

END:VCALENDAR
