BEGIN:VCALENDAR
VERSION:2.0
PRODID:-//ChamberMaster//Event Calendar 2.0//EN
METHOD:PUBLISH
X-PUBLISHED-TTL:P3D
REFRESH-INTERVAL:P3D
CALSCALE:GREGORIAN
BEGIN:VEVENT
DTSTART:20120405T040000Z
DTEND:20120405T040000Z
X-MICROSOFT-CDO-ALLDAYEVENT:FALSE
SUMMARY:WDO Dual Ribbon Cutting Ceremony - Apr. 5\, 2012
DESCRIPTION:WDO Dual Ribbon Cutting Ceremony - Apr. 5\, 2012
X-ALT-DESC;FMTTYPE=text/html:WDO Dual Ribbon Cutting Ceremony - Apr. 5\, 2012
LOCATION:
UID:e.2083.2117
SEQUENCE:3
DTSTAMP:20260421T002401Z
URL:https://business.worcesterchamber.org/events/details/wdo-dual-ribbon-cutting-ceremony-apr-5-2012-04-05-2012-2117
END:VEVENT

END:VCALENDAR
