BEGIN:VCALENDAR
VERSION:2.0
PRODID:-//ChamberMaster//Event Calendar 2.0//EN
METHOD:PUBLISH
X-PUBLISHED-TTL:P3D
REFRESH-INTERVAL:P3D
CALSCALE:GREGORIAN
BEGIN:VEVENT
DTSTART:20110928T040000Z
DTEND:20110928T040000Z
X-MICROSOFT-CDO-ALLDAYEVENT:FALSE
SUMMARY:WDO ''Friends of the Chamber'' Golf Sponsorship 2011
DESCRIPTION:WDO "Friends of the Chamber" Golf Sponsorship 2011
X-ALT-DESC;FMTTYPE=text/html:WDO "Friends of the Chamber" Golf Sponsorship 2011
LOCATION:
UID:e.2083.2035
SEQUENCE:3
DTSTAMP:20260421T113956Z
URL:https://business.worcesterchamber.org/events/details/wdo-friends-of-the-chamber-golf-sponsorship-2011-09-28-2011-2035
END:VEVENT

END:VCALENDAR
