BEGIN:VCALENDAR
VERSION:2.0
PRODID:-//ChamberMaster//Event Calendar 2.0//EN
METHOD:PUBLISH
X-PUBLISHED-TTL:P3D
REFRESH-INTERVAL:P3D
CALSCALE:GREGORIAN
BEGIN:VEVENT
DTSTART:20120926T040000Z
DTEND:20120926T040000Z
X-MICROSOFT-CDO-ALLDAYEVENT:FALSE
SUMMARY:WDO ''Friends of the Chamber'' Golf Sponsorship 2012
DESCRIPTION:WDO "Friends of the Chamber" Golf Sponsorship 2012
X-ALT-DESC;FMTTYPE=text/html:WDO "Friends of the Chamber" Golf Sponsorship 2012
LOCATION:
UID:e.2083.2150
SEQUENCE:3
DTSTAMP:20260420T183058Z
URL:https://business.worcesterchamber.org/events/details/wdo-friends-of-the-chamber-golf-sponsorship-2012-09-26-2012-2150
END:VEVENT

END:VCALENDAR
