BEGIN:VCALENDAR
VERSION:2.0
PRODID:-//ChamberMaster//Event Calendar 2.0//EN
METHOD:PUBLISH
X-PUBLISHED-TTL:P3D
REFRESH-INTERVAL:P3D
CALSCALE:GREGORIAN
BEGIN:VEVENT
DTSTART:20120407T040000Z
DTEND:20120407T040000Z
X-MICROSOFT-CDO-ALLDAYEVENT:FALSE
SUMMARY:WDO Meet & Greet with Senator Scott Brown - 4/7/12
DESCRIPTION:WDO Meet & Greet with Senator Scott Brown - 4/7/12
X-ALT-DESC;FMTTYPE=text/html:WDO Meet & Greet with Senator Scott Brown - 4/7/12
LOCATION:
UID:e.2083.2118
SEQUENCE:3
DTSTAMP:20260421T002401Z
URL:https://business.worcesterchamber.org/events/details/wdo-meet-greet-with-senator-scott-brown-4-7-12-04-07-2012-2118
END:VEVENT

END:VCALENDAR
