BEGIN:VCALENDAR
VERSION:2.0
PRODID:-//ChamberMaster//Event Calendar 2.0//EN
METHOD:PUBLISH
X-PUBLISHED-TTL:P3D
REFRESH-INTERVAL:P3D
CALSCALE:GREGORIAN
BEGIN:VEVENT
DTSTART:20110505T040000Z
DTEND:20110505T040000Z
X-MICROSOFT-CDO-ALLDAYEVENT:FALSE
SUMMARY:WDO - Quickbook Conversion Fee
DESCRIPTION:
X-ALT-DESC;FMTTYPE=text/html:
LOCATION:WRCC
UID:e.2083.730
SEQUENCE:3
DTSTAMP:20260421T172548Z
URL:https://business.worcesterchamber.org/events/details/wdo-quickbook-conversion-fee-05-05-2011-730
END:VEVENT

END:VCALENDAR
