BEGIN:VCALENDAR
VERSION:2.0
PRODID:-//ChamberMaster//Event Calendar 2.0//EN
METHOD:PUBLISH
X-PUBLISHED-TTL:P3D
REFRESH-INTERVAL:P3D
CALSCALE:GREGORIAN
BEGIN:VEVENT
DTSTART:20120926T040000Z
DTEND:20120926T040000Z
X-MICROSOFT-CDO-ALLDAYEVENT:FALSE
SUMMARY:WDO Scholarship Golf Tournament 9/26/12
DESCRIPTION:WDO Scholarship Golf Tournament 9/26/12
X-ALT-DESC;FMTTYPE=text/html:WDO Scholarship Golf Tournament 9/26/12
LOCATION:
UID:e.2083.2148
SEQUENCE:3
DTSTAMP:20260420T165354Z
URL:https://business.worcesterchamber.org/events/details/wdo-scholarship-golf-tournament-9-26-12-09-26-2012-2148
END:VEVENT

END:VCALENDAR
