BEGIN:VCALENDAR
VERSION:2.0
PRODID:-//ChamberMaster//Event Calendar 2.0//EN
METHOD:PUBLISH
X-PUBLISHED-TTL:P3D
REFRESH-INTERVAL:P3D
CALSCALE:GREGORIAN
BEGIN:VEVENT
DTSTART:20111006T040000Z
DTEND:20111006T040000Z
X-MICROSOFT-CDO-ALLDAYEVENT:FALSE
SUMMARY:WDO Workforce Forum with Sen. Moore 10/6/11
DESCRIPTION:WDO Workforce Forum with Sen. Moore 10/6/11
X-ALT-DESC;FMTTYPE=text/html:WDO Workforce Forum with Sen. Moore 10/6/11
LOCATION:
UID:e.2083.2039
SEQUENCE:3
DTSTAMP:20260421T113314Z
URL:https://business.worcesterchamber.org/events/details/wdo-workforce-forum-with-sen-moore-10-6-11-10-06-2011-2039
END:VEVENT

END:VCALENDAR
