BEGIN:VCALENDAR
VERSION:2.0
PRODID:-//ChamberMaster//Event Calendar 2.0//EN
METHOD:PUBLISH
X-PUBLISHED-TTL:P3D
REFRESH-INTERVAL:P3D
CALSCALE:GREGORIAN
BEGIN:VEVENT
DTSTART:20090729T143000Z
DTEND:20090730T003000Z
X-MICROSOFT-CDO-ALLDAYEVENT:FALSE
SUMMARY:William J. Short Memorial Classic - 2009 - Sponsorship
DESCRIPTION:
X-ALT-DESC;FMTTYPE=text/html:
LOCATION:Worcester Country Club
UID:e.2083.498
SEQUENCE:3
DTSTAMP:20260423T030111Z
URL:https://business.worcesterchamber.org/events/details/william-j-short-memorial-classic-2009-sponsorship-07-29-2009-498
END:VEVENT

END:VCALENDAR
