BEGIN:VCALENDAR
VERSION:2.0
PRODID:-//ChamberMaster//Event Calendar 2.0//EN
METHOD:PUBLISH
X-PUBLISHED-TTL:P3D
REFRESH-INTERVAL:P3D
CALSCALE:GREGORIAN
BEGIN:VEVENT
DTSTART:20100726T143000Z
DTEND:20100727T003000Z
X-MICROSOFT-CDO-ALLDAYEVENT:FALSE
SUMMARY:William J. Short Memorial Classic - 2010 Client Pkg.
DESCRIPTION:
X-ALT-DESC;FMTTYPE=text/html:
LOCATION:Worcester Country Club
UID:e.2083.638
SEQUENCE:3
DTSTAMP:20260422T090909Z
URL:https://business.worcesterchamber.org/events/details/william-j-short-memorial-classic-2010-client-pkg-07-26-2010-638
END:VEVENT

END:VCALENDAR
