BEGIN:VCALENDAR
VERSION:2.0
PRODID:-//ChamberMaster//Event Calendar 2.0//EN
METHOD:PUBLISH
X-PUBLISHED-TTL:P3D
REFRESH-INTERVAL:P3D
CALSCALE:GREGORIAN
BEGIN:VEVENT
DTSTART:20110725T143000Z
DTEND:20110726T003000Z
X-MICROSOFT-CDO-ALLDAYEVENT:FALSE
SUMMARY:William J. Short Memorial Classic at WCC- 2011 Ad in Program
DESCRIPTION:
X-ALT-DESC;FMTTYPE=text/html:
LOCATION:Worcester Country Club
UID:e.2083.734
SEQUENCE:3
DTSTAMP:20260421T160120Z
URL:https://business.worcesterchamber.org/events/details/william-j-short-memorial-classic-at-wcc-2011-ad-in-program-07-25-2011-734
END:VEVENT

END:VCALENDAR
