BEGIN:VCALENDAR
VERSION:2.0
PRODID:-//ChamberMaster//Event Calendar 2.0//EN
METHOD:PUBLISH
X-PUBLISHED-TTL:P3D
REFRESH-INTERVAL:P3D
CALSCALE:GREGORIAN
BEGIN:VEVENT
DTSTART:20120723T143000Z
DTEND:20120724T003000Z
X-MICROSOFT-CDO-ALLDAYEVENT:FALSE
SUMMARY:William J. Short Memorial Classic at WCC - 2012 Client Pkg.
DESCRIPTION:
X-ALT-DESC;FMTTYPE=text/html:
LOCATION:Worcester Country Club
UID:e.2083.805
SEQUENCE:3
DTSTAMP:20260420T201051Z
URL:https://business.worcesterchamber.org/events/details/william-j-short-memorial-classic-at-wcc-2012-client-pkg-07-23-2012-805
END:VEVENT

END:VCALENDAR
