BEGIN:VCALENDAR
VERSION:2.0
PRODID:-//ChamberMaster//Event Calendar 2.0//EN
METHOD:PUBLISH
X-PUBLISHED-TTL:P3D
REFRESH-INTERVAL:P3D
CALSCALE:GREGORIAN
BEGIN:VEVENT
DTSTART:20120724T010000Z
DTEND:20120723T230000Z
X-MICROSOFT-CDO-ALLDAYEVENT:FALSE
SUMMARY:WJ Short Mem. Golf Outing\, 7/23/12 Sponsors
DESCRIPTION:
X-ALT-DESC;FMTTYPE=text/html:
LOCATION:Worcester Country Club
UID:e.2083.797
SEQUENCE:3
DTSTAMP:20260420T202142Z
URL:https://business.worcesterchamber.org/events/details/wj-short-mem-golf-outing-7-23-12-sponsors-07-23-2012-797
END:VEVENT

END:VCALENDAR
