BEGIN:VCALENDAR
VERSION:2.0
PRODID:-//ChamberMaster//Event Calendar 2.0//EN
METHOD:PUBLISH
X-PUBLISHED-TTL:P3D
REFRESH-INTERVAL:P3D
CALSCALE:GREGORIAN
BEGIN:VEVENT
DTSTART:20090101T170000Z
DTEND:20101231T170000Z
X-MICROSOFT-CDO-ALLDAYEVENT:FALSE
SUMMARY:Women's Information Network 2009-2010 Sponsorship
DESCRIPTION:
X-ALT-DESC;FMTTYPE=text/html:
LOCATION:Worcester Regional Chamber of Commerce
UID:e.2083.581
SEQUENCE:3
DTSTAMP:20260422T012054Z
URL:https://business.worcesterchamber.org/events/details/women-s-information-network-2009-2010-sponsorship-01-01-2009-581
END:VEVENT

END:VCALENDAR
