BEGIN:VCALENDAR
VERSION:2.0
PRODID:-//ChamberMaster//Event Calendar 2.0//EN
METHOD:PUBLISH
X-PUBLISHED-TTL:P3D
REFRESH-INTERVAL:P3D
CALSCALE:GREGORIAN
BEGIN:VEVENT
DTSTART:20110901T160000Z
DTEND:20120630T173000Z
X-MICROSOFT-CDO-ALLDAYEVENT:FALSE
SUMMARY:Women's Information Network 2011-2012 Membership
DESCRIPTION:
X-ALT-DESC;FMTTYPE=text/html:
LOCATION:Worcester Regional Chamber of Commerce
UID:e.2083.751
SEQUENCE:3
DTSTAMP:20260420T213503Z
URL:https://business.worcesterchamber.org/events/details/women-s-information-network-2011-2012-membership-09-01-2011-751
END:VEVENT

END:VCALENDAR
