BEGIN:VCALENDAR
VERSION:2.0
PRODID:-//ChamberMaster//Event Calendar 2.0//EN
METHOD:PUBLISH
X-PUBLISHED-TTL:P3D
REFRESH-INTERVAL:P3D
CALSCALE:GREGORIAN
BEGIN:VEVENT
DTSTART:20130115T170000Z
DTEND:20130115T183000Z
X-MICROSOFT-CDO-ALLDAYEVENT:FALSE
SUMMARY:Women's Information Network (WIN) 01/17/12
DESCRIPTION:
X-ALT-DESC;FMTTYPE=text/html:
LOCATION:Worcester Regional Chamber of Commerce
UID:e.2083.865
SEQUENCE:3
DTSTAMP:20260420T113336Z
URL:https://business.worcesterchamber.org/events/details/women-s-information-network-win-01-17-12-01-15-2013-865
END:VEVENT

END:VCALENDAR
