BEGIN:VCALENDAR
VERSION:2.0
PRODID:-//ChamberMaster//Event Calendar 2.0//EN
METHOD:PUBLISH
X-PUBLISHED-TTL:P3D
REFRESH-INTERVAL:P3D
CALSCALE:GREGORIAN
BEGIN:VEVENT
DTSTART:20120417T160000Z
DTEND:20120417T173000Z
X-MICROSOFT-CDO-ALLDAYEVENT:FALSE
SUMMARY:Women's Information Network (WIN) 04/17/2012
DESCRIPTION:
X-ALT-DESC;FMTTYPE=text/html:
LOCATION:Worcester Regional Chamber of Commerce
UID:e.2083.801
SEQUENCE:3
DTSTAMP:20260421T002217Z
URL:https://business.worcesterchamber.org/events/details/women-s-information-network-win-04-17-2012-04-17-2012-801
END:VEVENT

END:VCALENDAR
