BEGIN:VCALENDAR
VERSION:2.0
PRODID:-//ChamberMaster//Event Calendar 2.0//EN
METHOD:PUBLISH
X-PUBLISHED-TTL:P3D
REFRESH-INTERVAL:P3D
CALSCALE:GREGORIAN
BEGIN:VEVENT
DTSTART:20110118T170000Z
DTEND:20110118T183000Z
X-MICROSOFT-CDO-ALLDAYEVENT:FALSE
SUMMARY:Women's Information Network (WIN) 1/18/11 (can -weather)
DESCRIPTION:
X-ALT-DESC;FMTTYPE=text/html:
LOCATION:Worcester Regional Chamber of Commerce
UID:e.2083.688
SEQUENCE:3
DTSTAMP:20260421T235833Z
URL:https://business.worcesterchamber.org/events/details/women-s-information-network-win-1-18-11-can-weather-01-18-2011-688
END:VEVENT

END:VCALENDAR
