BEGIN:VCALENDAR
VERSION:2.0
PRODID:-//ChamberMaster//Event Calendar 2.0//EN
METHOD:PUBLISH
X-PUBLISHED-TTL:P3D
REFRESH-INTERVAL:P3D
CALSCALE:GREGORIAN
BEGIN:VEVENT
DTSTART:20101019T160000Z
DTEND:20101019T173000Z
X-MICROSOFT-CDO-ALLDAYEVENT:FALSE
SUMMARY:Women's Information Network (WIN) 10/19/10
DESCRIPTION:
X-ALT-DESC;FMTTYPE=text/html:
LOCATION:Worcester Regional Chamber of Commerce
UID:e.2083.659
SEQUENCE:3
DTSTAMP:20260422T042327Z
URL:https://business.worcesterchamber.org/events/details/women-s-information-network-win-10-19-10-10-19-2010-659
END:VEVENT

END:VCALENDAR
