BEGIN:VCALENDAR
VERSION:2.0
PRODID:-//ChamberMaster//Event Calendar 2.0//EN
METHOD:PUBLISH
X-PUBLISHED-TTL:P3D
REFRESH-INTERVAL:P3D
CALSCALE:GREGORIAN
BEGIN:VEVENT
DTSTART:20121218T170000Z
DTEND:20121218T183000Z
X-MICROSOFT-CDO-ALLDAYEVENT:FALSE
SUMMARY:Women's Information Network (WIN) 11/20/2012
DESCRIPTION:
X-ALT-DESC;FMTTYPE=text/html:
LOCATION:Worcester Regional Chamber of Commerce
UID:e.2083.860
SEQUENCE:3
DTSTAMP:20260420T124826Z
URL:https://business.worcesterchamber.org/events/details/women-s-information-network-win-11-20-2012-12-18-2012-860
END:VEVENT

END:VCALENDAR
