BEGIN:VCALENDAR
VERSION:2.0
PRODID:-//ChamberMaster//Event Calendar 2.0//EN
METHOD:PUBLISH
X-PUBLISHED-TTL:P3D
REFRESH-INTERVAL:P3D
CALSCALE:GREGORIAN
BEGIN:VEVENT
DTSTART:20090801T120000Z
DTEND:20090801T210000Z
X-MICROSOFT-CDO-ALLDAYEVENT:FALSE
SUMMARY:Worcester Restaurant Week 2009
DESCRIPTION:
X-ALT-DESC;FMTTYPE=text/html:
LOCATION:Worcester Regional Chamber of Commerce
UID:e.2083.549
SEQUENCE:3
DTSTAMP:20260423T031042Z
URL:https://business.worcesterchamber.org/events/details/worcester-restaurant-week-2009-08-01-2009-549
END:VEVENT

END:VCALENDAR
