BEGIN:VCALENDAR
VERSION:2.0
PRODID:-//ChamberMaster//Event Calendar 2.0//EN
METHOD:PUBLISH
X-PUBLISHED-TTL:P3D
REFRESH-INTERVAL:P3D
CALSCALE:GREGORIAN
BEGIN:VEVENT
DTSTART:20120608T113000Z
DTEND:20120608T200000Z
X-MICROSOFT-CDO-ALLDAYEVENT:FALSE
SUMMARY:Worcester Women's Leadership Conf. 6/8/12- Sponsors
DESCRIPTION:
X-ALT-DESC;FMTTYPE=text/html:
LOCATION:DCU Center
UID:e.2083.786
SEQUENCE:3
DTSTAMP:20260420T230534Z
URL:https://business.worcesterchamber.org/events/details/worcester-women-s-leadership-conf-6-8-12-sponsors-06-08-2012-786
END:VEVENT

END:VCALENDAR
